{
 "currentVersion": 11.3,
 "serviceDescription": "Mosaicos/MD_2007",
 "name": "Mosaicos/MD_2007",
 "description": "",
 "extent": {
  "xmin": -1.5228695701807737E-4,
  "ymin": -1.0683201253414154E-5,
  "xmax": 526346.3353854103,
  "ymax": 4757423.866797185,
  "spatialReference": {
   "wkid": 23031,
   "latestWkid": 23031
  }
 },
 "initialExtent": {
  "xmin": -1.5228695701807737E-4,
  "ymin": -1.0683201253414154E-5,
  "xmax": 526346.3353854103,
  "ymax": 4757423.866797185,
  "spatialReference": {
   "wkid": 23031,
   "latestWkid": 23031
  }
 },
 "fullExtent": {
  "xmin": -1.5228695701807737E-4,
  "ymin": -1.0683201253414154E-5,
  "xmax": 526346.3353854103,
  "ymax": 4757423.866797185,
  "spatialReference": {
   "wkid": 23031,
   "latestWkid": 23031
  }
 },
 "sortableFields": "MinPS,MaxPS,LowPS,HighPS,Fecha,Scale,GSD",
 "bandCount": 3,
 "pixelType": "U8",
 "minValues": [],
 "maxValues": [],
 "meanValues": [],
 "stdvValues": [],
 "hasMultidimensions": false,
 "pixelSizeX": 0.0024000000672000014,
 "pixelSizeY": 0.0024000000672000014,
 "meanPixelSize": 0.0024000000672000014,
 "datasetFormat": "AMD",
 "uncompressedSize": 1304193999305707989,
 "blockWidth": 2048,
 "blockHeight": 256,
 "compressionType": "None",
 "bandNames": [
  "Band_1",
  "Band_2",
  "Band_3"
 ],
 "allowCopy": true,
 "allowAnalysis": true,
 "itemAccess": false,
 "inspectionCapabilities": "",
 "minPixelSize": 0,
 "maxPixelSize": 0,
 "copyrightText": "",
 "serviceDataType": "esriImageServiceDataTypeRGB",
 "serviceSourceType": "esriImageServiceSourceTypeMosaicDataset",
 "objectIdField": "OBJECTID",
 "fields": [
  {
   "name": "OBJECTID",
   "type": "esriFieldTypeOID",
   "alias": "OBJECTID",
   "domain": null
  },
  {
   "name": "Shape",
   "type": "esriFieldTypeGeometry",
   "alias": "Shape",
   "domain": null
  },
  {
   "name": "Name",
   "type": "esriFieldTypeString",
   "alias": "Name",
   "domain": null,
   "length": 200
  },
  {
   "name": "MinPS",
   "type": "esriFieldTypeDouble",
   "alias": "MinPS",
   "domain": null
  },
  {
   "name": "MaxPS",
   "type": "esriFieldTypeDouble",
   "alias": "MaxPS",
   "domain": null
  },
  {
   "name": "LowPS",
   "type": "esriFieldTypeDouble",
   "alias": "LowPS",
   "domain": null
  },
  {
   "name": "HighPS",
   "type": "esriFieldTypeDouble",
   "alias": "HighPS",
   "domain": null
  },
  {
   "name": "Category",
   "type": "esriFieldTypeInteger",
   "alias": "Category",
   "domain": {
    "type": "codedValue",
    "name": "MosaicCatalogItemCategoryDomain",
    "description": "Catalog item categories.",
    "codedValues": [
     {
      "name": "Unknown",
      "code": 0
     },
     {
      "name": "Primary",
      "code": 1
     },
     {
      "name": "Overview",
      "code": 2
     },
     {
      "name": "Unprocessed Overview",
      "code": 3
     },
     {
      "name": "Partial Overview",
      "code": 4
     },
     {
      "name": "Inactive",
      "code": 5
     },
     {
      "name": "Uploaded",
      "code": 253
     },
     {
      "name": "Incomplete",
      "code": 254
     },
     {
      "name": "Custom",
      "code": 255
     }
    ],
    "mergePolicy": "esriMPTDefaultValue",
    "splitPolicy": "esriSPTDefaultValue"
   }
  },
  {
   "name": "Fecha",
   "type": "esriFieldTypeDate",
   "alias": "Fecha",
   "domain": null,
   "length": 8
  },
  {
   "name": "scale",
   "type": "esriFieldTypeInteger",
   "alias": "scale",
   "domain": null
  },
  {
   "name": "gsd",
   "type": "esriFieldTypeDouble",
   "alias": "gsd",
   "domain": null
  }
 ],
 "capabilities": "Image,Metadata,Pixels,Mensuration,Catalog,Download",
 "defaultMosaicMethod": "Center",
 "allowedMosaicMethods": "Center,NorthWest,Nadir,LockRaster,ByAttribute,Seamline,None",
 "sortField": "",
 "sortValue": null,
 "sortAscending": true,
 "mosaicOperator": "First",
 "maxDownloadSizeLimit": 2048,
 "defaultCompressionQuality": 80,
 "defaultResamplingMethod": "Bilinear",
 "maxImageHeight": 4096,
 "maxImageWidth": 4096,
 "maxRecordCount": 2000,
 "maxDownloadImageCount": 50,
 "maxMosaicImageCount": 50,
 "allowRasterFunction": true,
 "rasterFunctionInfos": [
  {
   "name": "None",
   "description": "Make a Raster or Raster Dataset into a Function Raster Dataset.",
   "help": ""
  }
 ],
 "rasterTypeInfos": [
  {
   "name": "Raster Dataset",
   "description": "Supports all ArcGIS Raster Datasets",
   "help": ""
  }
 ],
 "mensurationCapabilities": "Basic",
 "hasHistograms": false,
 "hasColormap": false,
 "hasRasterAttributeTable": false,
 "minScale": 0,
 "maxScale": 0,
 "exportTilesAllowed": false,
 "supportsStatistics": true,
 "supportsAdvancedQueries": true,
 "editFieldsInfo": null,
 "ownershipBasedAccessControlForRasters": null,
 "allowComputeTiePoints": false,
 "useStandardizedQueries": true,
 "advancedQueryCapabilities": {
  "useStandardizedQueries": true,
  "supportsStatistics": true,
  "supportsOrderBy": true,
  "supportsDistinct": true,
  "supportsPagination": true
 },
 "spatialReference": {
  "wkid": 23031,
  "latestWkid": 23031
 }
}
