View In:
ArcGIS JavaScript
ArcGIS Online Map Viewer
ArcGIS Earth
Service Description: Mosaicos/MD_2021_Stereo_DMC26
Name: Mosaicos/MD_2021_Stereo_DMC26
Description:
Single Fused Map Cache: false
Extent:
XMin: 32721.01099999994
YMin: 4941234.341552423
XMax: 368343.47708788596
YMax: 5233628.719999999
Spatial Reference: 102100
(3857)
LatestVCSWkid(0)
Initial Extent:
XMin: 32721.01099999994
YMin: 4941234.341552423
XMax: 368343.47708788596
YMax: 5233628.719999999
Spatial Reference: 102100
(3857)
LatestVCSWkid(0)
Full Extent:
XMin: 32721.01099999994
YMin: 4941234.341552423
XMax: 368343.47708788596
YMax: 5233628.719999999
Spatial Reference: 102100
(3857)
LatestVCSWkid(0)
Pixel Size X: 0.04185738389006238
Pixel Size Y: 0.04185738389006234
Band Count: 6
Pixel Type: U8
RasterFunction Infos: {"rasterFunctionInfos": [
{
"name": "Anaglyph Ortho Color",
"description": "Generate Analglyph color, This function used band 1 from left image and band 2 nad 3 from right image",
"help": ""
},
{
"name": "Anaglyph Ortho Pan",
"description": "Generate Anaglyph after applying Gray",
"help": ""
},
{
"name": "Right Eye",
"description": "A raster function template.",
"help": ""
},
{
"name": "Left Eye",
"description": "A raster function template.",
"help": ""
},
{
"name": "None",
"description": "",
"help": ""
}
]}
Mensuration Capabilities: Basic,Base-Top Height,Base-Top Shadow Height,Top-Top Shadow Height,3D
Inspection Capabilities: Nadir,Oblique
Has Histograms: false
Has Colormap: false
Has Multi Dimensions : false
Rendering Rule:
Min Scale: 0
Max Scale: 0
Resampling: false
Copyright Text:
Service Data Type: esriImageServiceDataTypeGeneric
Min Values: N/A
Max Values: N/A
Mean Values: N/A
Standard Deviation Values: N/A
Object ID Field: OBJECTID
Fields:
-
OBJECTID
(
type: esriFieldTypeOID, alias: OBJECTID
)
-
Shape
(
type: esriFieldTypeGeometry, alias: Shape
)
-
Name
(
type: esriFieldTypeString, alias: Name, length: 200
)
-
MinPS
(
type: esriFieldTypeDouble, alias: MinPS
)
-
MaxPS
(
type: esriFieldTypeDouble, alias: MaxPS
)
-
LowPS
(
type: esriFieldTypeDouble, alias: LowPS
)
-
HighPS
(
type: esriFieldTypeDouble, alias: HighPS
)
-
Category
(
type: esriFieldTypeInteger, alias: Category
, Coded Values:
[0: Unknown]
, [1: Primary]
, [2: Overview]
, ...6 more...
)
-
GroupName
(
type: esriFieldTypeString, alias: GroupName, length: 100
)
-
CenterX
(
type: esriFieldTypeDouble, alias: CenterX
)
-
CenterY
(
type: esriFieldTypeDouble, alias: CenterY
)
-
StereoOrthoPair
(
type: esriFieldTypeString, alias: StereoOrthoPair, length: 100
)
-
StereoOrthoAngle
(
type: esriFieldTypeDouble, alias: StereoOrthoAngle
)
-
BH_Ratio
(
type: esriFieldTypeDouble, alias: BH_Ratio
)
-
Fecha
(
type: esriFieldTypeDate, alias: Fecha, length: 8
)
-
SensorAzimuth
(
type: esriFieldTypeDouble, alias: Sensor Azimuth
)
-
SensorElevation
(
type: esriFieldTypeDouble, alias: Sensor Elevation
)
Default Mosaic Method: Center
Allowed Mosaic Methods: Center,NorthWest,Viewpoint,Nadir,LockRaster,ByAttribute,Seamline,None
SortField:
SortValue: null
Mosaic Operator: First
Default Compression Quality: 80
Default Resampling Method: Bilinear
Max Record Count: 2000
Max Image Height: 4096
Max Image Width: 4096
Max Download Image Count: 50
Max Mosaic Image Count: 50
Allow Raster Function: true
Allow Copy: true
Allow Analysis: true
Allow Compute TiePoints: false
Supports Statistics: true
Supports Advanced Queries: true
Use StandardizedQueries: true
Raster Type Infos:
Name: Raster Dataset
Description: Supports all ArcGIS Raster Datasets
Help:
Has Raster Attribute Table: false
Edit Fields Info: null
Ownership Based AccessControl For Rasters: null
Child Resources:
Info
Statistics
Key Properties
Legend
Raster Function Infos
Supported Operations:
Export Image
Query
Identify
Download Rasters
Get Image Url
Measure
Compute Histograms
Compute Statistics Histograms
Get Samples
Compute Class Statistics
Query GPS Info
Find Images
Image to Map
Map to Image
Measure from Image
Image to Map Multiray
Query Boundary
Compute Pixel Location
Compute Angles
Validate
Project